BEGIN:VCALENDAR
VERSION:2.0
PRODID:-//JRM Skates &amp; Skills - ECPv6.15.20//NONSGML v1.0//EN
CALSCALE:GREGORIAN
METHOD:PUBLISH
X-WR-CALNAME:JRM Skates &amp; Skills
X-ORIGINAL-URL:https://butik.jrmskatesandskills.se
X-WR-CALDESC:Händelser för JRM Skates &amp; Skills
REFRESH-INTERVAL;VALUE=DURATION:PT1H
X-Robots-Tag:noindex
X-PUBLISHED-TTL:PT1H
BEGIN:VTIMEZONE
TZID:UTC
BEGIN:STANDARD
TZOFFSETFROM:+0000
TZOFFSETTO:+0000
TZNAME:UTC
DTSTART:20240101T000000
END:STANDARD
END:VTIMEZONE
BEGIN:VEVENT
DTSTART;TZID=UTC:20250907T200000
DTEND;TZID=UTC:20260329T210000
DTSTAMP:20260419T202043
CREATED:20250814T085900Z
LAST-MODIFIED:20250907T144938Z
UID:410-1757275200-1774818000@butik.jrmskatesandskills.se
SUMMARY:Väsby AfterSeason 25/26 - Varje Söndag 20-21
DESCRIPTION:Väsby Ishall Söndagar 20-21 \n7/9\, 14/9\, 21/9\, 28/9\, 5/10\, 12/10\, 19/10\, 26/10\, 02/11\, 09/11 \, 16/11 \, 23/11\, 30/11\, 07/12\, 14/12\, \n2026 \n11/01\, 18/01\, 25/01\, 01/02\, 08/02\, 15/02\, 22/02\, 01/03\, 08/03\, 15/03\, 22/03\, 29/03
URL:https://butik.jrmskatesandskills.se/event/vasby-afterseason-25-26/
LOCATION:Väsby Ishall\, Husarvägen 31\, Upplands Väsby\, 194 35
END:VEVENT
BEGIN:VEVENT
DTSTART;TZID=UTC:20260114T063000
DTEND;TZID=UTC:20260325T072000
DTSTAMP:20260419T202043
CREATED:20251215T101729Z
LAST-MODIFIED:20260203T152929Z
UID:996-1768372200-1774423200@butik.jrmskatesandskills.se
SUMMARY:Morgonträning Sollentuna 2026
DESCRIPTION:Morgnträning Sollentuna JRM skates & skills \nVar: sollentuna \nnär 06.30-07.20 \nonsdagar \n14/1\, 21/1\, 28/1\, 4/2\, 11/2\, 18/2\, 4/3\, 11/3\, 18/3\, 25/3 \npris 4995kr eller 600kr per pass \nJRM – ett världsledande koncept –
URL:https://butik.jrmskatesandskills.se/event/morgontraning-sollentuna-2026/
LOCATION:Sollentuna Ishall\, Strandvägen 65\, Sollentuna\, 191 35\, Sweden
END:VEVENT
BEGIN:VEVENT
DTSTART;TZID=UTC:20260223T080000
DTEND;TZID=UTC:20260224T170000
DTSTAMP:20260419T202043
CREATED:20260130T153724Z
LAST-MODIFIED:20260206T092322Z
UID:1174-1771833600-1771952400@butik.jrmskatesandskills.se
SUMMARY:Sportlov 2026 Kristinehamn
DESCRIPTION:I samarbete med CCM ger JRM dig nu en unik möjlighet smakprov på vår populära Sommarcamp till ett kraftigt reducerat pris! \nUnder vecka 9 – sportlovet i Värmland bjuder vi in till ett exklusivt smakprov i Kristinehamn. \nFör endast 1 295 kr får du chansen att uppleva vår beprövade utbildningsmodell och träna som proffsen. \nUnder måndag–tisdag 23–24 februari genomför vi tre intensiva ispass per dag\, fyllda med kvalitetsträning\, tempo och individuell utveckling. \nSom extra bonus får alla deltagare giveaways från CCM! \nAntalet platser är begränsat – säkra din plats i tid och ta del av ett av världens mest uppskattade utbildningskoncept inom hockey. \nVälkommen till två dagar fyllda av inspiration\, utveckling och hockeyglädje!
URL:https://butik.jrmskatesandskills.se/event/sportlov-2026-kristinehamn/
LOCATION:Björkhallen\, Krisinehamn\, Sweden
END:VEVENT
END:VCALENDAR