BEGIN:VCALENDAR
VERSION:2.0
PRODID:-//JRM Skates &amp; Skills - ECPv6.15.20//NONSGML v1.0//EN
CALSCALE:GREGORIAN
METHOD:PUBLISH
X-ORIGINAL-URL:https://butik.jrmskatesandskills.se
X-WR-CALDESC:Händelser för JRM Skates &amp; Skills
REFRESH-INTERVAL;VALUE=DURATION:PT1H
X-Robots-Tag:noindex
X-PUBLISHED-TTL:PT1H
BEGIN:VTIMEZONE
TZID:UTC
BEGIN:STANDARD
TZOFFSETFROM:+0000
TZOFFSETTO:+0000
TZNAME:UTC
DTSTART:20250101T000000
END:STANDARD
END:VTIMEZONE
BEGIN:VEVENT
DTSTART;TZID=UTC:20260408T000000
DTEND;TZID=UTC:20260531T000000
DTSTAMP:20260419T181645
CREATED:20260211T170514Z
LAST-MODIFIED:20260211T170514Z
UID:1290-1775606400-1780185600@butik.jrmskatesandskills.se
SUMMARY:AfterSeason 2026 - Sollentunavallen
DESCRIPTION:22 ispass Sollentunavallen \nanmäl per pass eller paketpris \ndatum \n8/4 kl 19 \n12/4 kl 19 \n14/4 kl 19 \n19/4 kl 19 \n21/4 kl 18 \n23/4 kl 18 \n26/4 kl 19.30 \n28/4 kl 17 \n30/4 kl 19 \n3/5 kl 17.30 \n5/5 kl 17 \n7/5 kl 19 \n10/5 kl 19.30 \n12/5 kl 17 \n14/5 kl 18.30 \n17/5 kl 19.30 \n19/5 kl 17 \n21/5 kl 19 \n24/5 kl 19.30 \n26/5 kl 17 \n28/5 kl 19 \n31/5 kl 19.30 \n 
URL:https://butik.jrmskatesandskills.se/event/afterseason-2026-sollentunavallen/
LOCATION:Sollentuna Ishall\, Strandvägen 65\, Sollentuna\, 191 35\, Sweden
END:VEVENT
BEGIN:VEVENT
DTSTART;TZID=UTC:20260416T170000
DTEND;TZID=UTC:20260514T180000
DTSTAMP:20260419T181645
CREATED:20260415T145214Z
LAST-MODIFIED:20260415T145214Z
UID:1552-1776358800-1778781600@butik.jrmskatesandskills.se
SUMMARY:Järna SK Akademi x JRM
DESCRIPTION:Datum/tider;\n–    16/4 kl. 17:00-18:00\n–    21/4 kl. 17:00-18:00\n–    23/4 kl. 17:00-18:00\n–    28/4 kl. 17:00-18:00\n–    30/4 kl. 17:00-18:00\n–    5/5 kl. 17:00-18:00\n–    7/5 kl. 17:00-18:00\n–    12/5 kl. 17:00-18:00\n–    14/5 kl. 17:00-18:00\n\n\n\nJärna SK Akademi x JRM är en eftersäsongsakademi för spelare som vill utvecklas individuellt enligt JRM spelarutvecklingskoncept med fokus på olika teman.\nAkademin är redan i full gång och det finns endast ett fåtal platser kvar i en av träningsgrupperna. Gällande priset för spelarens plats kommer det att anpassas utifrån antalet återstående ispass under akademiperioden.Är du intresserad? Kontakta Järna SK sportchef:\nAndreas Jonsson\nandreas.jonsson@jarnask.se\nTel: 070-971 85 59
URL:https://butik.jrmskatesandskills.se/event/jarna-sk-akademi-x-jrm/
LOCATION:Järna Ishall\, Rönnvägen 7\, Järna\, Järna\, 153 36
END:VEVENT
BEGIN:VEVENT
DTSTART;TZID=UTC:20260424T191500
DTEND;TZID=UTC:20260424T191500
DTSTAMP:20260419T181645
CREATED:20260211T191919Z
LAST-MODIFIED:20260402T072656Z
UID:1301-1777058100-1777058100@butik.jrmskatesandskills.se
SUMMARY:FLORIDA 2026
DESCRIPTION:time: \napril 24 FRI OFF ICE 7.15PM-8.15PM ICE @ 8.45 PM (1 hour ice session) \napril 25 SAT OFF ICE 11.00AM-12.00AM ICE @ 12.30PM\, 2.45pm\, 5.15pm \n(3×1 hour ice session) \napril 26 sun OFF ICE 07.45AM-08.45AM ICE @ 9.15am\, 11.45am\, 2.15pm \n(3×1 hour ice session) \nClearwater ice arena\, CLEARWATER FL \nPRICE: ﹩500 Pay by Venmo: @steve-engle-22 \n(charge by credit vard on \nwebsite with 4% service fee) \nQUESTIONS: STEVE: 574 315 1749 \nJRM SKATES AND SKILLS- THE TOP HOCKEY TRAINING GROUP IN SWEDEN. \nInstructors: \nJoachim Ahlgren – Ranked as one of the world’s best Skills coaches in 2021. \nSteve Engle worked in US with JRM for 8 years. \nMikael Andersson: For the past 25 years worked with education and communicative development for leaders and athletes \n 
URL:https://butik.jrmskatesandskills.se/event/florida-2026/
LOCATION:CLEARWATER ICE ARENA\, 13940 Icot Blvd\, CLEARWATER\, 33760\, United States
END:VEVENT
END:VCALENDAR