BEGIN:VCALENDAR
VERSION:2.0
PRODID:-//JRM Skates &amp; Skills - ECPv6.15.20//NONSGML v1.0//EN
CALSCALE:GREGORIAN
METHOD:PUBLISH
X-WR-CALNAME:JRM Skates &amp; Skills
X-ORIGINAL-URL:https://butik.jrmskatesandskills.se
X-WR-CALDESC:Händelser för JRM Skates &amp; Skills
REFRESH-INTERVAL;VALUE=DURATION:PT1H
X-Robots-Tag:noindex
X-PUBLISHED-TTL:PT1H
BEGIN:VTIMEZONE
TZID:UTC
BEGIN:STANDARD
TZOFFSETFROM:+0000
TZOFFSETTO:+0000
TZNAME:UTC
DTSTART:20250101T000000
END:STANDARD
END:VTIMEZONE
BEGIN:VEVENT
DTSTART;TZID=UTC:20260706T080000
DTEND;TZID=UTC:20260726T153000
DTSTAMP:20260420T012043
CREATED:20251124T144701Z
LAST-MODIFIED:20260215T140510Z
UID:865-1783324800-1785079800@butik.jrmskatesandskills.se
SUMMARY:JRM SummerCamp 2026 - Platinum Ticket  - 6 Camper
DESCRIPTION:Valfria 6 Camper med rabatterat pris 27 000kr \ninkl JRM T-shirt och en JRM mössa \n 
URL:https://butik.jrmskatesandskills.se/event/jrm-summercamp-2026-we-are-crazy-6-camper/
LOCATION:Björkhallen\, Krisinehamn\, Sweden
END:VEVENT
BEGIN:VEVENT
DTSTART;TZID=UTC:20260706T080000
DTEND;TZID=UTC:20260726T170000
DTSTAMP:20260420T012043
CREATED:20251217T074912Z
LAST-MODIFIED:20260215T140346Z
UID:1010-1783324800-1785085200@butik.jrmskatesandskills.se
SUMMARY:JRM SummerCamp 2026 - Gold Ticket  - 5 Camper
DESCRIPTION:Valfria 5 Camper med rabatterat pris 23 500kr \ninkl JRM T-shirt och en JRM mössa \n 
URL:https://butik.jrmskatesandskills.se/event/jrm-summercamp-2026-gold-ticket-5-camper/
LOCATION:Björkhallen\, Krisinehamn\, Sweden
END:VEVENT
BEGIN:VEVENT
DTSTART;TZID=UTC:20260706T080000
DTEND;TZID=UTC:20260726T170000
DTSTAMP:20260420T012043
CREATED:20251217T075142Z
LAST-MODIFIED:20260215T140310Z
UID:1013-1783324800-1785085200@butik.jrmskatesandskills.se
SUMMARY:JRM SummerCamp 2026 - Silver Ticket  - 4 Camper
DESCRIPTION:Valfria 4 Camper med rabatterat pris 19600kr \ninkl JRM T-shirt och en JRM mössa \n 
URL:https://butik.jrmskatesandskills.se/event/jrm-summercamp-2026-silver-ticket-4-camper/
LOCATION:Björkhallen\, Krisinehamn\, Sweden
END:VEVENT
BEGIN:VEVENT
DTSTART;TZID=UTC:20260720T080000
DTEND;TZID=UTC:20260722T153000
DTSTAMP:20260420T012043
CREATED:20251124T122905Z
LAST-MODIFIED:20260225T081659Z
UID:835-1784534400-1784734200@butik.jrmskatesandskills.se
SUMMARY:Intensity 4\, 20-22 Juli 2026\, JRM SummerCamp Kristinehamn
DESCRIPTION:Intensity Camps \nVår trademarkcamp. Vi garanterar dig utveckling under tre dagar med tre ispass och ett rörlighetspass per dag. På Intensity Camps blandar vi elitspelare såväl som ungdomsspelare \nIntensity 4\, 20-22 Juli\, JRM SummerCamp Kristinehamn
URL:https://butik.jrmskatesandskills.se/event/intensity-4-20-22-juli-jrm-summercamp-kristinehamn/
LOCATION:Björkhallen\, Krisinehamn\, Sweden
CATEGORIES:Summer26
END:VEVENT
END:VCALENDAR